BEGIN:VCALENDAR
VERSION:2.0
PRODID:-//Blacktown Little Athletics Centre - ECPv4.9.9//NONSGML v1.0//EN
CALSCALE:GREGORIAN
METHOD:PUBLISH
X-WR-CALNAME:Blacktown Little Athletics Centre
X-ORIGINAL-URL:https://blac.com.au
X-WR-CALDESC:Events for Blacktown Little Athletics Centre
BEGIN:VTIMEZONE
TZID:Australia/Sydney
BEGIN:STANDARD
TZOFFSETFROM:+1100
TZOFFSETTO:+1000
TZNAME:AEST
DTSTART:20200404T160000
END:STANDARD
BEGIN:DAYLIGHT
TZOFFSETFROM:+1000
TZOFFSETTO:+1100
TZNAME:AEDT
DTSTART:20201003T160000
END:DAYLIGHT
END:VTIMEZONE
BEGIN:VEVENT
DTSTART;TZID=Australia/Sydney:20200124T181500
DTEND;TZID=Australia/Sydney:20200124T181500
DTSTAMP:20200301T070438
CREATED:20190904T053140Z
LAST-MODIFIED:20190904T053140Z
UID:5285-1579889700-1579889700@blac.com.au
SUMMARY:24-Jan-20 - Friday Night Competition
DESCRIPTION:Friday Night Competition \n
URL:https://blac.com.au/event/24-jan-20-friday-night-competition/
LOCATION:Cornucopia Reserve\, Cantwell Street\, Glenwood\, NSW\, 2768\, Australia
CATEGORIES:Friday Night Competition
END:VEVENT
END:VCALENDAR