BEGIN:VCALENDAR
VERSION:2.0
PRODID:-//Blacktown Little Athletics Centre - ECPv4.9.9//NONSGML v1.0//EN
CALSCALE:GREGORIAN
METHOD:PUBLISH
X-WR-CALNAME:Blacktown Little Athletics Centre
X-ORIGINAL-URL:https://blac.com.au
X-WR-CALDESC:Events for Blacktown Little Athletics Centre
BEGIN:VTIMEZONE
TZID:Australia/Sydney
BEGIN:STANDARD
TZOFFSETFROM:+1100
TZOFFSETTO:+1000
TZNAME:AEST
DTSTART:20200404T160000
END:STANDARD
BEGIN:DAYLIGHT
TZOFFSETFROM:+1000
TZOFFSETTO:+1100
TZNAME:AEDT
DTSTART:20201003T160000
END:DAYLIGHT
END:VTIMEZONE
BEGIN:VEVENT
DTSTART;VALUE=DATE:20200119
DTEND;VALUE=DATE:20200120
DTSTAMP:20200301T070403
CREATED:20190904T042706Z
LAST-MODIFIED:20190904T042706Z
UID:5230-1579392000-1579478399@blac.com.au
SUMMARY:Australia Day Carnival (TT-U17)
DESCRIPTION:Includes Entry Fee – Nominations Close 12th Jan 2020 \nOur Australia Day Carnival is a Gala Day run by Blacktown Little Athletics Centre. This Carnival is a fun day out where athletes have the opportunity to compete against athletes from other centres. Athletes can compete in up to 4 events. \n
URL:https://blac.com.au/event/australia-day-carnival-tt-u17/
LOCATION:Cornucopia Reserve\, Cantwell Street\, Glenwood\, NSW\, 2768\, Australia
CATEGORIES:2019–2020 Major Carnivals
END:VEVENT
END:VCALENDAR