BEGIN:VCALENDAR
VERSION:2.0
PRODID:-//Blacktown Little Athletics Centre - ECPv5.2.1.1//NONSGML v1.0//EN
CALSCALE:GREGORIAN
METHOD:PUBLISH
X-WR-CALNAME:Blacktown Little Athletics Centre
X-ORIGINAL-URL:https://blac.com.au
X-WR-CALDESC:Events for Blacktown Little Athletics Centre
BEGIN:VTIMEZONE
TZID:Australia/Sydney
BEGIN:STANDARD
TZOFFSETFROM:+1100
TZOFFSETTO:+1000
TZNAME:AEST
DTSTART:20190406T160000
END:STANDARD
BEGIN:DAYLIGHT
TZOFFSETFROM:+1000
TZOFFSETTO:+1100
TZNAME:AEDT
DTSTART:20191005T160000
END:DAYLIGHT
END:VTIMEZONE
BEGIN:VEVENT
DTSTART;VALUE=DATE:20191117
DTEND;VALUE=DATE:20191118
DTSTAMP:20210228T164944
CREATED:20190904T042008Z
LAST-MODIFIED:20190904T042008Z
UID:5224-1573948800-1574035199@blac.com.au
SUMMARY:State Relays - (U12-U17)
DESCRIPTION:A State event where athletes compete as part of teams in track and field relay events. Nominations will be made to Tamara and teams will be placed dependant on numbers of athletes.\nNote: By nominating\, parents must help cover duties at carnival
URL:https://blac.com.au/event/state-relays-u12-u17/
LOCATION:Sydney Olympic Park Athletics Centre\, Athletic Centre Edwin Flack Avenue Inside the stadium between bays 5 & 6\, Sydney\, NSW\, 2127\, Australia
CATEGORIES:2019–2020 Major Carnivals
END:VEVENT
END:VCALENDAR