BEGIN:VCALENDAR
VERSION:2.0
PRODID:-//Blacktown Little Athletics Centre - ECPv5.2.1.1//NONSGML v1.0//EN
CALSCALE:GREGORIAN
METHOD:PUBLISH
X-WR-CALNAME:Blacktown Little Athletics Centre
X-ORIGINAL-URL:https://blac.com.au
X-WR-CALDESC:Events for Blacktown Little Athletics Centre
BEGIN:VTIMEZONE
TZID:Australia/Sydney
BEGIN:STANDARD
TZOFFSETFROM:+1100
TZOFFSETTO:+1000
TZNAME:AEST
DTSTART:20200404T160000
END:STANDARD
BEGIN:DAYLIGHT
TZOFFSETFROM:+1000
TZOFFSETTO:+1100
TZNAME:AEDT
DTSTART:20201003T160000
END:DAYLIGHT
END:VTIMEZONE
BEGIN:VEVENT
DTSTART;TZID=Australia/Sydney:20200314T090000
DTEND;TZID=Australia/Sydney:20200315T170000
DTSTAMP:20210228T164716
CREATED:20190904T044109Z
LAST-MODIFIED:20190904T044109Z
UID:5240-1584176400-1584291600@blac.com.au
SUMMARY:State Championships
DESCRIPTION:Is the Final Championships of the season\, with athletes who qualified from Region able to compete.\nNote: By athletes competing at State\, parents must help cover duties given.
URL:https://blac.com.au/event/state-championships/
LOCATION:Sydney Olympic Park Athletics Centre\, Athletic Centre Edwin Flack Avenue Inside the stadium between bays 5 & 6\, Sydney\, NSW\, 2127\, Australia
CATEGORIES:2019–2020 Major Carnivals
END:VEVENT
END:VCALENDAR