BEGIN:VCALENDAR
VERSION:2.0
PRODID:-//Blacktown Little Athletics Centre - ECPv4.9.9//NONSGML v1.0//EN
CALSCALE:GREGORIAN
METHOD:PUBLISH
X-WR-CALNAME:Blacktown Little Athletics Centre
X-ORIGINAL-URL:https://blac.com.au
X-WR-CALDESC:Events for Blacktown Little Athletics Centre
BEGIN:VTIMEZONE
TZID:Australia/Sydney
BEGIN:STANDARD
TZOFFSETFROM:+1100
TZOFFSETTO:+1000
TZNAME:AEST
DTSTART:20200404T160000
END:STANDARD
BEGIN:DAYLIGHT
TZOFFSETFROM:+1000
TZOFFSETTO:+1100
TZNAME:AEDT
DTSTART:20201003T160000
END:DAYLIGHT
END:VTIMEZONE
BEGIN:VEVENT
DTSTART;TZID=Australia/Sydney:20200207T090000
DTEND;TZID=Australia/Sydney:20200209T170000
DTSTAMP:20200301T062012
CREATED:20190904T043153Z
LAST-MODIFIED:20190904T043220Z
UID:5235-1581066000-1581267600@blac.com.au
SUMMARY:Region Championships (U8-U17)
DESCRIPTION:Only athletes who have successfully qualified from Zone will compete at the Region Carnival. This Carnival is the pathway for athletes to compete at State.\nNote: By athletes competing at Region\, parents must help cover duties given. \n
URL:https://blac.com.au/event/region-championships-u8-u17/
LOCATION:Blacktown International Sports Park\, Eastern Rd\, Rooty Hill\, NSW\, 2766\, Australia
CATEGORIES:2019–2020 Major Carnivals
END:VEVENT
END:VCALENDAR