BEGIN:VCALENDAR
VERSION:2.0
PRODID:-//Blacktown Little Athletics Centre - ECPv5.2.1.1//NONSGML v1.0//EN
CALSCALE:GREGORIAN
METHOD:PUBLISH
X-WR-CALNAME:Blacktown Little Athletics Centre
X-ORIGINAL-URL:https://blac.com.au
X-WR-CALDESC:Events for Blacktown Little Athletics Centre
BEGIN:VTIMEZONE
TZID:Australia/Sydney
BEGIN:STANDARD
TZOFFSETFROM:+1100
TZOFFSETTO:+1000
TZNAME:AEST
DTSTART:20190406T160000
END:STANDARD
BEGIN:DAYLIGHT
TZOFFSETFROM:+1000
TZOFFSETTO:+1100
TZNAME:AEDT
DTSTART:20191005T160000
END:DAYLIGHT
END:VTIMEZONE
BEGIN:VEVENT
DTSTART;TZID=Australia/Sydney:20190906T180000
DTEND;TZID=Australia/Sydney:20190906T210000
DTSTAMP:20210228T180823
CREATED:20190904T054008Z
LAST-MODIFIED:20190904T054046Z
UID:5297-1567792800-1567803600@blac.com.au
SUMMARY:Last pre-season rego / patch collection night
DESCRIPTION:Friday 6th September  6-9pm
URL:https://blac.com.au/event/last-pre-season-rego-patch-collection-night/
LOCATION:Cornucopia Reserve\, Cantwell Street\, Glenwood\, NSW\, 2768\, Australia
END:VEVENT
END:VCALENDAR