BEGIN:VCALENDAR
VERSION:2.0
PRODID:-//Blacktown Little Athletics Centre - ECPv5.2.1.1//NONSGML v1.0//EN
CALSCALE:GREGORIAN
METHOD:PUBLISH
X-WR-CALNAME:Blacktown Little Athletics Centre
X-ORIGINAL-URL:https://blac.com.au
X-WR-CALDESC:Events for Blacktown Little Athletics Centre
BEGIN:VTIMEZONE
TZID:Australia/Sydney
BEGIN:STANDARD
TZOFFSETFROM:+1100
TZOFFSETTO:+1000
TZNAME:AEST
DTSTART:20200404T160000
END:STANDARD
BEGIN:DAYLIGHT
TZOFFSETFROM:+1000
TZOFFSETTO:+1100
TZNAME:AEDT
DTSTART:20201003T160000
END:DAYLIGHT
END:VTIMEZONE
BEGIN:VEVENT
DTSTART;TZID=Australia/Sydney:20200214T181500
DTEND;TZID=Australia/Sydney:20200214T181500
DTSTAMP:20210228T164234
CREATED:20190904T053327Z
LAST-MODIFIED:20190904T053327Z
UID:5287-1581704100-1581704100@blac.com.au
SUMMARY:14-Feb-20 - Friday Night Competition
DESCRIPTION:Friday Night Competition
URL:https://blac.com.au/event/14-feb-20-friday-night-competition/
LOCATION:Cornucopia Reserve\, Cantwell Street\, Glenwood\, NSW\, 2768\, Australia
CATEGORIES:Friday Night Competition
END:VEVENT
END:VCALENDAR