BEGIN:VCALENDAR
VERSION:2.0
PRODID:-//Blacktown Little Athletics Centre - ECPv5.2.1.1//NONSGML v1.0//EN
CALSCALE:GREGORIAN
METHOD:PUBLISH
X-WR-CALNAME:Blacktown Little Athletics Centre
X-ORIGINAL-URL:https://blac.com.au
X-WR-CALDESC:Events for Blacktown Little Athletics Centre
BEGIN:VTIMEZONE
TZID:Australia/Sydney
BEGIN:STANDARD
TZOFFSETFROM:+1100
TZOFFSETTO:+1000
TZNAME:AEST
DTSTART:20190406T160000
END:STANDARD
BEGIN:DAYLIGHT
TZOFFSETFROM:+1000
TZOFFSETTO:+1100
TZNAME:AEDT
DTSTART:20191005T160000
END:DAYLIGHT
END:VTIMEZONE
BEGIN:VEVENT
DTSTART;TZID=Australia/Sydney:20191011T181500
DTEND;TZID=Australia/Sydney:20191011T181500
DTSTAMP:20210228T181213
CREATED:20190904T052117Z
LAST-MODIFIED:20190904T052117Z
UID:5261-1570817700-1570817700@blac.com.au
SUMMARY:11-Oct-19 - Friday Night Competition
DESCRIPTION:Friday Night Competition
URL:https://blac.com.au/event/11-oct-19-friday-night-competition/
LOCATION:Cornucopia Reserve\, Cantwell Street\, Glenwood\, NSW\, 2768\, Australia
CATEGORIES:Friday Night Competition
END:VEVENT
END:VCALENDAR